BEGIN:VCALENDAR
VERSION:2.0
PRODID:-//learning-web.org//NONSGML kigkonsult.se iCalcreator 2.30.10//
CALSCALE:GREGORIAN
METHOD:PUBLISH
UID:f8fad3fa-7d2c-4051-9094-62e44641e6b6
X-WR-CALDESC:A chance for our youth to experience behind the scenes of some
  of their favorite local hotspots in Ithaca\, while getting the chance to 
 speak with skilled professionals. Ending the week with a chance to showcas
 e their skills in a cooking class!
X-WR-RELCALID:2f1cf9020c127b89829bb18292728514
X-WR-TIMEZONE:America/New_York
BEGIN:VTIMEZONE
TZID:America/New_York
BEGIN:STANDARD
TZNAME:EST
DTSTART:20231105T020000
TZOFFSETFROM:-0400
TZOFFSETTO:-0500
RDATE:20241103T020000
END:STANDARD
BEGIN:DAYLIGHT
TZNAME:EDT
DTSTART:20230312T020000
TZOFFSETFROM:-0500
TZOFFSETTO:-0400
RDATE:20240310T020000
RDATE:20250309T020000
END:DAYLIGHT
END:VTIMEZONE
BEGIN:VEVENT
UID:85bc3bfb-1d2a-4c7b-85ca-14789be126b8
DTSTAMP:20260421T143656Z
DESCRIPTION:A chance for our youth to experience behind the scenes of some 
 of their favorite local hotspots in Ithaca\, while getting the chance to s
 peak with skilled professionals. Ending the week with a chance to showcase
  their skills in a cooking class!
DTSTART;TZID=America/New_York:20240220T083000
DTEND;TZID=America/New_York:20240220T120000
LOCATION:
SUMMARY:February Break Activities
END:VEVENT
END:VCALENDAR
