BEGIN:VCALENDAR
VERSION:2.0
PRODID:-//learning-web.org//NONSGML kigkonsult.se iCalcreator 2.30.10//
CALSCALE:GREGORIAN
METHOD:PUBLISH
UID:6bcf8642-fee1-44cd-a687-b479d7e1b70b
X-WR-CALDESC:
X-WR-RELCALID:4d57614308b6f63c70ec1b32de9198ac
X-WR-TIMEZONE:America/New_York
BEGIN:VTIMEZONE
TZID:America/New_York
BEGIN:STANDARD
TZNAME:EST
DTSTART:20241103T020000
TZOFFSETFROM:-0400
TZOFFSETTO:-0500
RDATE:20251102T020000
RDATE:20261101T020000
END:STANDARD
BEGIN:DAYLIGHT
TZNAME:EDT
DTSTART:20250309T020000
TZOFFSETFROM:-0500
TZOFFSETTO:-0400
RDATE:20260308T020000
END:DAYLIGHT
END:VTIMEZONE
BEGIN:VEVENT
UID:fbf8eec4-83d7-4bdf-813b-619bf4705ce8
DTSTAMP:20260423T211245Z
DESCRIPTION:
DTSTART;TZID=America/New_York:20250512T143000
DTEND;TZID=America/New_York:20250512T163000
LOCATION:
SUMMARY:Art Group
END:VEVENT
END:VCALENDAR
